BEGIN:VCALENDAR
VERSION:2.0
PRODID:-//VOANS - ECPv6.15.20//NONSGML v1.0//EN
CALSCALE:GREGORIAN
METHOD:PUBLISH
X-ORIGINAL-URL:https://www.voans.org
X-WR-CALDESC:Events for VOANS
REFRESH-INTERVAL;VALUE=DURATION:PT1H
X-Robots-Tag:noindex
X-PUBLISHED-TTL:PT1H
BEGIN:VTIMEZONE
TZID:UTC
BEGIN:STANDARD
TZOFFSETFROM:+0000
TZOFFSETTO:+0000
TZNAME:UTC
DTSTART:20240101T000000
END:STANDARD
END:VTIMEZONE
BEGIN:VEVENT
DTSTART;TZID=UTC:20250922T130000
DTEND;TZID=UTC:20250922T140000
DTSTAMP:20260425T222059
CREATED:20250911T194725Z
LAST-MODIFIED:20250911T194725Z
UID:10000101-1758546000-1758549600@www.voans.org
SUMMARY:Alzheimer Event
DESCRIPTION:Join us to for a walk to support Alzheimer’s & Dementia \nThe community\, residents\, families and staff are invited to a meaningful afternoon dedicated to awareness\, support\, and connection. Explore booths from various home health & hospice companies offering helpful resources and information. \nDate: Monday\, Sept 22 \nTime: 1-2 pm \nLocation: \nThe Homestead at Anoka \n3002 4th Ave.\, Anoka\, MN \nBackyard patio behind the Assisted Living Community Room \nQuestions: Contact Sue at sekman@voa.org or 763.528.6406 \nFor more details\, see link here>> \n  \n 
URL:https://www.voans.org/event/alzheimer-event/
END:VEVENT
END:VCALENDAR