BEGIN:VCALENDAR
VERSION:2.0
PRODID:-//VOANS - ECPv6.15.20//NONSGML v1.0//EN
CALSCALE:GREGORIAN
METHOD:PUBLISH
X-ORIGINAL-URL:https://www.voans.org
X-WR-CALDESC:Events for VOANS
REFRESH-INTERVAL;VALUE=DURATION:PT1H
X-Robots-Tag:noindex
X-PUBLISHED-TTL:PT1H
BEGIN:VTIMEZONE
TZID:UTC
BEGIN:STANDARD
TZOFFSETFROM:+0000
TZOFFSETTO:+0000
TZNAME:UTC
DTSTART:20240101T000000
END:STANDARD
END:VTIMEZONE
BEGIN:VEVENT
DTSTART;TZID=UTC:20250716T130000
DTEND;TZID=UTC:20250716T143000
DTSTAMP:20260423T095555
CREATED:20250701T144346Z
LAST-MODIFIED:20250701T144748Z
UID:10000092-1752670800-1752676200@www.voans.org
SUMMARY:Raspberry Festival\, Senior Day July 16
DESCRIPTION:Come see us at Downtown Hopkins for the Raspberry Festival for Senior Day\, July 16. \nWednesday\, July 16 from 1-2:30 pm  \nJoin us for a “BERRY” good time in Downtown Hopkins! The Raspberry Festival is a fun event with many vendors and lots to see and do.\nWe hope you stop by to say hello and for free give-aways! Ask us about our warmly\, friendly community offering Assisted Living & Memory Care in Hopkins/Minnetonka area. \nFor more information\, contact Yvonne at: ycariveau@voa.org or 952.283.2626 \n 
URL:https://www.voans.org/event/raspberry-festival-senior-day-july-16/
LOCATION:Elder Homestead\, 11400 4th Street N\, Minnetonka\, MN\, 55343
END:VEVENT
BEGIN:VEVENT
DTSTART;TZID=UTC:20250719T090000
DTEND;TZID=UTC:20250719T160000
DTSTAMP:20260423T095555
CREATED:20250701T144646Z
LAST-MODIFIED:20250701T144646Z
UID:10000093-1752915600-1752940800@www.voans.org
SUMMARY:Raspberry Festival\, July 19
DESCRIPTION:Come see us at Downtown Hopkins for the Raspberry Festival on Saturday\, July 19 \nSaturday\, July 19\, 9 am – 4 pm \nJoin us for a “BERRY” good time in Downtown Hopkins! The Raspberry Festival is a fun event with many vendors and lots to see and do.\nWe hope you stop by to say hello! and for give-aways! Ask us about our warmly\, friendly community offering Assisted Living & Memory Care in Hopkins/Minnetonka area. \nFor more information\, contact Yvonne at: ycariveau@voa.org or 952.283.2626 \n 
URL:https://www.voans.org/event/raspberry-festival-july-19/
LOCATION:Elder Homestead\, 11400 4th Street N\, Minnetonka\, MN\, 55343
END:VEVENT
BEGIN:VEVENT
DTSTART;TZID=UTC:20250723T080000
DTEND;TZID=UTC:20250723T200000
DTSTAMP:20260423T095555
CREATED:20250624T184359Z
LAST-MODIFIED:20250624T184559Z
UID:10000091-1753257600-1753300800@www.voans.org
SUMMARY:Senior Day at the Anoka County Fair!
DESCRIPTION:We are excited to be at the Anoka County Fair! We sponsor a FREE lunch for seniors (ages 65 and older) and lots of free give-aways! \nDate: Wednesday\, July 23 \nTime: Gate admission is open daily at 8:00 AM \nLocation:  Anoka County Fairgrounds \nQuestions: Contact Sue at sekman@voa.org or 763.528.6406 \n  \n 
URL:https://www.voans.org/event/senior-day-at-the-anoka-county-fair/
END:VEVENT
BEGIN:VEVENT
DTSTART;TZID=UTC:20250729T130000
DTEND;TZID=UTC:20250729T143000
DTSTAMP:20260423T095555
CREATED:20250716T195435Z
LAST-MODIFIED:20250716T195435Z
UID:10000094-1753794000-1753799400@www.voans.org
SUMMARY:Hospice Care Speaker July 29
DESCRIPTION:We are excited to offer residents\, families\, staff and the community the opportunity to join us for a free speaker series focused on seniors. Our upcoming topic is hospice—and how loved ones can get the support they need and provide care to their loved ones. \nSpeaker: Patty Zenz\nCare Transition Coordinator\nSt. Croix Hospice \nThis is a free CEU for social workers. Refreshments will be served. \nAL and IL residents and their families are welcome to join. Social Workers in the community are also welcome. \nQuestions: Contact Sue at sekman@voa.org or 763.528.6406\nNO RSVP needed \n  \n 
URL:https://www.voans.org/event/hospice-care-speaker-july-29/
END:VEVENT
END:VCALENDAR