BEGIN:VCALENDAR
VERSION:2.0
PRODID:-//VOANS - ECPv6.15.20//NONSGML v1.0//EN
CALSCALE:GREGORIAN
METHOD:PUBLISH
X-ORIGINAL-URL:https://www.voans.org
X-WR-CALDESC:Events for VOANS
REFRESH-INTERVAL;VALUE=DURATION:PT1H
X-Robots-Tag:noindex
X-PUBLISHED-TTL:PT1H
BEGIN:VTIMEZONE
TZID:UTC
BEGIN:STANDARD
TZOFFSETFROM:+0000
TZOFFSETTO:+0000
TZNAME:UTC
DTSTART:20240101T000000
END:STANDARD
END:VTIMEZONE
BEGIN:VTIMEZONE
TZID:America/New_York
BEGIN:DAYLIGHT
TZOFFSETFROM:-0500
TZOFFSETTO:-0400
TZNAME:EDT
DTSTART:20240310T070000
END:DAYLIGHT
BEGIN:STANDARD
TZOFFSETFROM:-0400
TZOFFSETTO:-0500
TZNAME:EST
DTSTART:20241103T060000
END:STANDARD
BEGIN:DAYLIGHT
TZOFFSETFROM:-0500
TZOFFSETTO:-0400
TZNAME:EDT
DTSTART:20250309T070000
END:DAYLIGHT
BEGIN:STANDARD
TZOFFSETFROM:-0400
TZOFFSETTO:-0500
TZNAME:EST
DTSTART:20251102T060000
END:STANDARD
BEGIN:DAYLIGHT
TZOFFSETFROM:-0500
TZOFFSETTO:-0400
TZNAME:EDT
DTSTART:20260308T070000
END:DAYLIGHT
BEGIN:STANDARD
TZOFFSETFROM:-0400
TZOFFSETTO:-0500
TZNAME:EST
DTSTART:20261101T060000
END:STANDARD
END:VTIMEZONE
BEGIN:VEVENT
DTSTART;TZID=UTC:20250806T160000
DTEND;TZID=UTC:20250806T180000
DTSTAMP:20260425T113231
CREATED:20250717T142613Z
LAST-MODIFIED:20250717T142613Z
UID:10000095-1754496000-1754503200@www.voans.org
SUMMARY:Grand Reopening Event\, Aug 6
DESCRIPTION:Residents\, their families and the community are invited to our exciting Grand Reopening Event\nJoin us for a FREE meal and a tour of our updated community–with updated dining room\, renovated kitchen and much more! \nDate: Wed\, August 6th\nTime: 4-6 pm \nConveniently located off Hwy 7; near Hwys 169 & 494 \nRSVP needed; call or email Yvonne at: ycariveau@voa.org or 952.283.2626 \n 
URL:https://www.voans.org/event/grand-reopening-event-aug-6/
LOCATION:Elder Homestead\, 11400 4th Street N\, Minnetonka\, MN\, 55343
END:VEVENT
BEGIN:VEVENT
DTSTART;TZID=America/New_York:20250828T160000
DTEND;TZID=America/New_York:20250828T183000
DTSTAMP:20260425T113231
CREATED:20250729T173752Z
LAST-MODIFIED:20250805T143514Z
UID:10000096-1756396800-1756405800@www.voans.org
SUMMARY:Mary Marshall Day
DESCRIPTION:Mary Marshall Day \nThursday\, August 28 from 4 – 6:30 pm (EST)\nLocation: 2000 5th St.\, South Arlington\, VA 22204 \nCome join us on a day full of smiles and community spirit!\nFun\, food\, and festivities await at the Mary Marshall Fun Fair – don’t miss out!\nWe will also have a Toiletry Drive at the door. We ask that each guest bring a new/unopen toiletry item(s) to donate and place in our donation box. These hygiene products are for our residents. Some ideas of what to bring:\n* Shampoo and conditioner\n* Mouthwash\n* Toothpaste and Toothbrushes\n* DOVE or Irish Spring soap\n* Women and Men Deodorant\n* Shaving Cream\n* Disposable Razors\n* Sunscreen Lotion\n* Denture Cleanser\n* Body Wash\n* Combs and Brushes \nRSVP to Divina: DAlston@voa.org
URL:https://www.voans.org/event/mary-marshall-day/
END:VEVENT
END:VCALENDAR